BEGIN:VCALENDAR
VERSION:2.0
PRODID:-//Mendoza College of Business - ECPv6.6.4.2//NONSGML v1.0//EN
CALSCALE:GREGORIAN
METHOD:PUBLISH
X-WR-CALNAME:Mendoza College of Business
X-ORIGINAL-URL:https://mendoza.nd.edu
X-WR-CALDESC:Events for Mendoza College of Business
REFRESH-INTERVAL;VALUE=DURATION:PT1H
X-Robots-Tag:noindex
X-PUBLISHED-TTL:PT1H
BEGIN:VTIMEZONE
TZID:America/Indiana/Indianapolis
BEGIN:DAYLIGHT
TZOFFSETFROM:-0500
TZOFFSETTO:-0400
TZNAME:EDT
DTSTART:20220313T070000
END:DAYLIGHT
BEGIN:STANDARD
TZOFFSETFROM:-0400
TZOFFSETTO:-0500
TZNAME:EST
DTSTART:20221106T060000
END:STANDARD
END:VTIMEZONE
BEGIN:VEVENT
DTSTART;TZID=America/Indiana/Indianapolis:20220818T180000
DTEND;TZID=America/Indiana/Indianapolis:20220818T203000
DTSTAMP:20260423T204503
CREATED:20220810T185715Z
LAST-MODIFIED:20220810T185715Z
UID:27674-1660845600-1660854600@mendoza.nd.edu
SUMMARY:Forté MBA Forum - Boston
DESCRIPTION:Forté MBA Forums are designed for those considering an MBA — whether you’re a high achiever looking to change careers\, a college student planning for the future\, or a professional ready to take your career to the next level. \nForté’s free MBA Forums are held annually to empower you with information about the value of an MBA. You’ll make critical connections with admissions reps\, MBA alumni\, and students from top business schools in North America and Europe while gaining exclusive insights to the MBA admissions process. \nStop by the Notre Dame table to connect with the MBA Admissions Team and alumni! \nREGISTER
URL:https://mendoza.nd.edu/event/forte-mba-forum-boston/
LOCATION:The Westin Copley Place\, 10 Huntington Ave.\, Boston\, MA\, 02116\, United States
CATEGORIES:Homepage Events,MBA Events,MBA Off-Campus
ORGANIZER;CN="Phil Drendall":MAILTO:mba.business@nd.edu
END:VEVENT
END:VCALENDAR